BEGIN:VCALENDAR
VERSION:2.0
PRODID:-//Western Australian Naturalists Club - ECPv6.15.20//NONSGML v1.0//EN
CALSCALE:GREGORIAN
METHOD:PUBLISH
X-WR-CALNAME:Western Australian Naturalists Club
X-ORIGINAL-URL:https://www.wanaturalists.org.au
X-WR-CALDESC:Events for Western Australian Naturalists Club
REFRESH-INTERVAL;VALUE=DURATION:PT1H
X-Robots-Tag:noindex
X-PUBLISHED-TTL:PT1H
BEGIN:VTIMEZONE
TZID:Australia/Perth
BEGIN:STANDARD
TZOFFSETFROM:+0800
TZOFFSETTO:+0800
TZNAME:AWST
DTSTART:20230101T000000
END:STANDARD
END:VTIMEZONE
BEGIN:VEVENT
DTSTART;TZID=Australia/Perth:20240804T100000
DTEND;TZID=Australia/Perth:20240804T130000
DTSTAMP:20260424T063917
CREATED:20240614T100306Z
LAST-MODIFIED:20240725T044026Z
UID:10000501-1722765600-1722776400@www.wanaturalists.org.au
SUMMARY:CENTENARY EVENT: RE-ENACTMENT OF CLUB'S FIRST EXCURSION
DESCRIPTION:The club’s first excursion was to Leighton Beach after a storm in late July 1924. \nThe excursion leader was Ludwig Glauert\, keeper of the biological collection at the WA Museum (He was promoted to Curator of the museum in 1927). \nOn Sunday 4th August we will visit Leighton Beach for a re-enactment of the event\, this time being led\, fittingly\, by Dr Lisa Kirkendale\, Head of Aquatic Zoology and Curator of Mollusca\, at today’s museum. \nWe have booked a room from 10:00am at the North Fremantle Surf Lifesaving Club where we will meet\, look at displays of past excursions and partake of light refreshments (tea\, coffee\, biscuits) before heading to the beach at 11:00am. We will return to the club room for further refreshments. We would like you to RSVP to ensure we have sufficient refreshments. \n1920’s dress is optional but it would add to the occasion.
URL:https://www.wanaturalists.org.au/events/centenary-event-re-enactment-of-clubs-first-excursion/
LOCATION:North Fremantle SLSC\, Leighton Beach\, 20 Leighton Beach Blvd\, North Fremantle\, Australia
CATEGORIES:Beach Sweep,Centennial,Excursion
ATTACH;FMTTYPE=image/jpeg:https://www.wanaturalists.org.au/files/2024/06/Leighton-Beach-1.jpg
ORGANIZER;CN="Don Poynton":MAILTO:natsnorthernbranch@gmail.com
END:VEVENT
END:VCALENDAR