BEGIN:VCALENDAR
VERSION:2.0
PRODID:-//Western Australian Naturalists Club - ECPv6.15.20//NONSGML v1.0//EN
CALSCALE:GREGORIAN
METHOD:PUBLISH
X-WR-CALNAME:Western Australian Naturalists Club
X-ORIGINAL-URL:https://www.wanaturalists.org.au
X-WR-CALDESC:Events for Western Australian Naturalists Club
REFRESH-INTERVAL;VALUE=DURATION:PT1H
X-Robots-Tag:noindex
X-PUBLISHED-TTL:PT1H
BEGIN:VTIMEZONE
TZID:Australia/Perth
BEGIN:STANDARD
TZOFFSETFROM:+0800
TZOFFSETTO:+0800
TZNAME:AWST
DTSTART:20230101T000000
END:STANDARD
END:VTIMEZONE
BEGIN:VEVENT
DTSTART;TZID=Australia/Perth:20241009T093000
DTEND;TZID=Australia/Perth:20241011T170000
DTSTAMP:20260422T201727
CREATED:20240321T020338Z
LAST-MODIFIED:20241030T100933Z
UID:10000477-1728466200-1728666000@www.wanaturalists.org.au
SUMMARY:Centenary Excursion to Dryandra National Park
DESCRIPTION:As part of our 100-year Anniversary\, we will visit Dryandra woodland\, including a visit to Barna Mia. Dryandra woodland is the largest remnant of native vegetation in the western Wheatbelt and well known and appreciated by our Club.  \n\n\n\n\nDryandra is home to magnificent trees and spectacular wildflowers in spring. The open eucalypt woodlands of white-barked wandoo and powderbark covered much of the Wheatbelt before it was cleared for farming. Thickets of rock sheoak and kwongan heath provide habitat for several of Dryandra’s rare species. \n\n\n\n\nWe might also see nocturnal wildlife\, some of the 24 mammal\, 98 bird and 41 reptile species that are all known to call Dryandra home\, including Western Australia’s state mammal emblem\, the numbat (Myrmecobius fasciatus). \n\n\n\nWe have booked four cottages at the Lions Village\, which will accommodate 16 to 20 people. Booking is required to ensure a bed in the cottages. The costs for two nights shared accommodation will depend on how many people attend (approx. $65 for 2 nights). Other members are welcome to join us for the whole or part of the excursion but would need to arrange their own accommodation (two campsites are available). Cost for a visit to Barna Mia will be around $25. \n\n\n\nTo book a place in one of the cottages\, a non-refundable deposit of $15 is needed to hold your place. Money should be paid into the Club’s bank account as soon as possible\, with reference Dryandra excursion (BSB 633000 Acc 168641629).  Further information will be provided after you have RSVP’d and booked. Contact the Club office for any questions. \n\n\n\nBring: Binoculars\, cameras\, bedding\, food for the stay\, etc.
URL:https://www.wanaturalists.org.au/events/centenary-excursion-to-dryandra-national-park/
LOCATION:Lions Dryandra Woodland Village\, Lions Dryandra Woodland Village\, Dryandra\, WA\, Australia
CATEGORIES:Camp,Centennial,Excursion
ATTACH;FMTTYPE=image/png:https://www.wanaturalists.org.au/files/2017/02/ry-chuditch-dryandra.png
GEO:-32.782936;116.971974
X-APPLE-STRUCTURED-LOCATION;VALUE=URI;X-ADDRESS=Lions Dryandra Woodland Village Lions Dryandra Woodland Village Dryandra WA Australia;X-APPLE-RADIUS=500;X-TITLE=Lions Dryandra Woodland Village:geo:116.971974,-32.782936
END:VEVENT
BEGIN:VEVENT
DTSTART;TZID=Australia/Perth:20240804T100000
DTEND;TZID=Australia/Perth:20240804T130000
DTSTAMP:20260422T201727
CREATED:20240614T100306Z
LAST-MODIFIED:20240725T044026Z
UID:10000501-1722765600-1722776400@www.wanaturalists.org.au
SUMMARY:CENTENARY EVENT: RE-ENACTMENT OF CLUB'S FIRST EXCURSION
DESCRIPTION:The club’s first excursion was to Leighton Beach after a storm in late July 1924. \nThe excursion leader was Ludwig Glauert\, keeper of the biological collection at the WA Museum (He was promoted to Curator of the museum in 1927). \nOn Sunday 4th August we will visit Leighton Beach for a re-enactment of the event\, this time being led\, fittingly\, by Dr Lisa Kirkendale\, Head of Aquatic Zoology and Curator of Mollusca\, at today’s museum. \nWe have booked a room from 10:00am at the North Fremantle Surf Lifesaving Club where we will meet\, look at displays of past excursions and partake of light refreshments (tea\, coffee\, biscuits) before heading to the beach at 11:00am. We will return to the club room for further refreshments. We would like you to RSVP to ensure we have sufficient refreshments. \n1920’s dress is optional but it would add to the occasion.
URL:https://www.wanaturalists.org.au/events/centenary-event-re-enactment-of-clubs-first-excursion/
LOCATION:North Fremantle SLSC\, Leighton Beach\, 20 Leighton Beach Blvd\, North Fremantle\, Australia
CATEGORIES:Beach Sweep,Centennial,Excursion
ATTACH;FMTTYPE=image/jpeg:https://www.wanaturalists.org.au/files/2024/06/Leighton-Beach-1.jpg
ORGANIZER;CN="Don Poynton":MAILTO:natsnorthernbranch@gmail.com
END:VEVENT
BEGIN:VEVENT
DTSTART;TZID=Australia/Perth:20240713T120000
DTEND;TZID=Australia/Perth:20240713T150000
DTSTAMP:20260422T201727
CREATED:20240602T105642Z
LAST-MODIFIED:20240707T043051Z
UID:10000489-1720872000-1720882800@www.wanaturalists.org.au
SUMMARY:Centenary Celebration Luncheon 13th July 2024  University WA Club
DESCRIPTION:No access code required for the ticket types shown. Please ignore the access code unless you have been specifically provided with one.     You are cordially invited to the Centenary Luncheon Celebration of the Western Australian Naturalists Club The Western Australian Naturalists’ Club is proud to announce in 2024 it’s centenary. The Club is the longest running natural history organisation in Western Australia and one of the oldest in Australia.   It is with great pleasure that we extend this invitation to you for the Centenary Luncheon Celebration. As we mark a significant milestone in our journey\, we are honoured to have you join us.  The Western Australian Naturalists Club has been at the forefront of promoting the appreciation and conservation of our natural environment for the past century.  Our esteemed patrons Dr Lyn Beazley and Dr Kerry Sanderson will be present and participating in the celebrations.  Mandy and Mike Bamford will be our hosts. The Centenary Luncheon Celebration will feature keynote speakers\, presentations\, and engaging discussions\, offering insights into the past\, present\, and future of our organization. The event promises to be an event filled with reflection\, camaraderie\, and appreciation for the rich history and achievements of our esteemed club. It will be an opportunity to celebrate our shared passion for nature\, as well as to honour the individuals whose dedication has shaped the legacy of the Western Australian Naturalists Club. Past and current members and guests are invited to join us as we celebrate the past hundred years of the Western Australian Naturalists Club and look forward to the next century of conservation\, exploration\, and discovery. The luncheon is a ticketed event \, $50 for members and $75 for guests and can be purchased from Humanitix\, above. No access code required for the ticket types shown.  Should you have any inquiries \,require further information or need transport assistance\, please do not hesitate to contact Tanya at the office\, or Arlene Quinn VP (vp@wanaturalists.org.au /0402272868) who is coordinating the luncheon.    \n\n\n\n\n\n\n\n\n\n\n\n 
URL:https://www.wanaturalists.org.au/events/centenary-celebration-luncheon-13th-july-2024-2/2024-07-13/
LOCATION:University Club of Western Australia\, UWA\, Hackett Drive\, Crawley\, WA\, Australia
CATEGORIES:Centennial,Social
ORGANIZER;CN="Arlene Quinn":MAILTO:vp@wanaturalists.org.au
GEO:-31.981179;115.8199096
X-APPLE-STRUCTURED-LOCATION;VALUE=URI;X-ADDRESS=University Club of Western Australia UWA Hackett Drive Crawley WA Australia;X-APPLE-RADIUS=500;X-TITLE=UWA\, Hackett Drive:geo:115.8199096,-31.981179
END:VEVENT
END:VCALENDAR