BEGIN:VCALENDAR
VERSION:2.0
PRODID:-//Western Australian Naturalists Club - ECPv6.15.20//NONSGML v1.0//EN
CALSCALE:GREGORIAN
METHOD:PUBLISH
X-ORIGINAL-URL:https://www.wanaturalists.org.au
X-WR-CALDESC:Events for Western Australian Naturalists Club
REFRESH-INTERVAL;VALUE=DURATION:PT1H
X-Robots-Tag:noindex
X-PUBLISHED-TTL:PT1H
BEGIN:VTIMEZONE
TZID:Australia/Perth
BEGIN:STANDARD
TZOFFSETFROM:+0800
TZOFFSETTO:+0800
TZNAME:AWST
DTSTART:20230101T000000
END:STANDARD
END:VTIMEZONE
BEGIN:VEVENT
DTSTART;TZID=Australia/Perth:20241206T170000
DTEND;TZID=Australia/Perth:20241206T203000
DTSTAMP:20260425T200309
CREATED:20241115T023744Z
LAST-MODIFIED:20241115T023749Z
UID:10000559-1733504400-1733517000@www.wanaturalists.org.au
SUMMARY:Club Christmas BBQ
DESCRIPTION:Please join us for our Club’s annual Christmas get-together at Herdsman Lake Discovery Centre \n\n\n\nJoin us for a nature walk around the boardwalk (or lakeside if the boardwalk is inaccessible) at 5.15pm before a picnic/BBQ and the drawing of the raffle prizes. \n\n\n\nPlease bring: \n\n\n\n\nyour own food and drink with even house numbers\, salad\, odd numbers\, dessert\, to share.\n\n\n\nItems for the hampers (to be raffled)\n\n\n\nDigital photos of 2023 activities (max. of 10 per person).\n\n\n\nFolding chairs\, side tables; plates & cutlery\n\n\n\na torch\, mosquito protection\, binoculars\, camera etc.\n\n\n\nYou might also like to wear something with a natural history theme e.g. hat\, scarf or costume.                         \n\n\n\n\nTea and coffee provided\, with BBQ facilities available on-site.
URL:https://www.wanaturalists.org.au/events/club-christmas-bbq/
LOCATION:Herdsman Lake Discovery Centre\, Cnr Flynn and Selby St.\, Wembley\, WA\, 6018\, Australia
CATEGORIES:BBQ,Social,Walk
ATTACH;FMTTYPE=image/jpeg:https://www.wanaturalists.org.au/files/2022/11/db4122_5cc2cdde16dc4c1587f21b90482fc0e0_mv2.jpg
ORGANIZER;CN="WANats Council":MAILTO:info@wanaturalists.org.au
GEO:-31.928995;115.804879
X-APPLE-STRUCTURED-LOCATION;VALUE=URI;X-ADDRESS=Herdsman Lake Discovery Centre Cnr Flynn and Selby St. Wembley WA 6018 Australia;X-APPLE-RADIUS=500;X-TITLE=Cnr Flynn and Selby St.:geo:115.804879,-31.928995
END:VEVENT
BEGIN:VEVENT
DTSTART;TZID=Australia/Perth:20241208T120000
DTEND;TZID=Australia/Perth:20241208T140000
DTSTAMP:20260425T200309
CREATED:20241130T084508Z
LAST-MODIFIED:20241130T084511Z
UID:10000565-1733659200-1733666400@www.wanaturalists.org.au
SUMMARY:XMAS Lunch with the KRM Branch
DESCRIPTION:Please bring lunch\, drinks etc. plus please bring a contribution for the Xmas Hamper that will be drawn as a door prize. \n\n\n\n\nContact Colin for further details.
URL:https://www.wanaturalists.org.au/events/xmas-lunch-with-the-krm-branch/
LOCATION:Naragebup Rockingham Environment Centre\, 49 Safety Bay Road\, Peron\, WA\, Australia
CATEGORIES:Dinner,Social
GEO:-32.28319;115.7106583
X-APPLE-STRUCTURED-LOCATION;VALUE=URI;X-ADDRESS=Naragebup Rockingham Environment Centre 49 Safety Bay Road Peron WA Australia;X-APPLE-RADIUS=500;X-TITLE=49 Safety Bay Road:geo:115.7106583,-32.28319
END:VEVENT
BEGIN:VEVENT
DTSTART;TZID=Australia/Perth:20250510T160000
DTEND;TZID=Australia/Perth:20250510T160000
DTSTAMP:20260425T200309
CREATED:20250426T024925Z
LAST-MODIFIED:20250426T025957Z
UID:10000616-1746892800-1746892800@www.wanaturalists.org.au
SUMMARY:Celebration of Life of Otto Mueller
DESCRIPTION:Otto Mueller5/1/1930- 17/3/2025 \n\n\n\n\n\n\n\nOtto with Angela Rossen at Tomato Lake \n\n\n\nphoto: Pam Ghirardi \n\n\n\n\nTime: 4pm onwardsVenue: Herdsman Lake Discovery Centre\, corner Flynn and Selby streets\, WembleyDate: Saturday 10th May 2025\n \n\n\n\n\n\n\nPlease RSVP for catering purposes by 7th May to:-\n \n\n\n\n\n\n\nFeel free to bring any photos or stories to share.\n \n\n\n\n\nThe more of us\, the less there is for everything else
URL:https://www.wanaturalists.org.au/events/celebration-of-life-of-otto-mueller/
LOCATION:Herdsman Lake Discovery Centre\, Cnr Flynn and Selby St.\, Wembley\, WA\, 6018\, Australia
CATEGORIES:Social
ATTACH;FMTTYPE=image/jpeg:https://www.wanaturalists.org.au/files/2024/05/word-image-42526-5.jpeg
ORGANIZER;CN="Claudia Mueller":MAILTO:muellerc122@gmail.com
GEO:-31.928995;115.804879
X-APPLE-STRUCTURED-LOCATION;VALUE=URI;X-ADDRESS=Herdsman Lake Discovery Centre Cnr Flynn and Selby St. Wembley WA 6018 Australia;X-APPLE-RADIUS=500;X-TITLE=Cnr Flynn and Selby St.:geo:115.804879,-31.928995
END:VEVENT
BEGIN:VEVENT
DTSTART;TZID=Australia/Perth:20250727T090000
DTEND;TZID=Australia/Perth:20250727T090000
DTSTAMP:20260425T200309
CREATED:20250630T120831Z
LAST-MODIFIED:20250630T121010Z
UID:10000634-1753606800-1753606800@www.wanaturalists.org.au
SUMMARY:KRMB Anniversary Breakfast
DESCRIPTION:Time: 9:00 am \n\n\n\nContact: for further details and to confirm attendance for booking purposes.
URL:https://www.wanaturalists.org.au/events/krmb-anniversary-breakfast/
LOCATION:Palm Beach Cafe\, Shop 5\, 6 Railway Terrace\, Rockingham
CATEGORIES:KRMB Anniversary Breakfast,Social
END:VEVENT
BEGIN:VEVENT
DTSTART;TZID=Australia/Perth:20251205T170000
DTEND;TZID=Australia/Perth:20251205T203000
DTSTAMP:20260425T200309
CREATED:20230226T031146Z
LAST-MODIFIED:20251118T051701Z
UID:10000347-1764954000-1764966600@www.wanaturalists.org.au
SUMMARY:Club Christmas Picnic
DESCRIPTION:Please join us for our Club’s annual Christmas get-together at Herdsman Lake Discovery Centre – all members welcome. \n\n\n\nJoin us for a nature walk around the boardwalk (or lakeside if the boardwalk is inaccessible) at 5.15pm\, before a picnic/BBQ and the drawing of the raffle prizes. \n\n\n\nYou are encouraged to bring photos of 2025 activities to share with the group. \n\n\n\nWe also have a nature-themed quiz organised. \n\n\n\nPlease bring: \n\n\n\n\nYour own food and drink\, plus even house numbers – salad\, odd numbers – dessert\, to share.\n\n\n\nItems for the hampers (to be raffled)\n\n\n\nDigital photos of 2025 activities (max. of 10 per person).\n\n\n\nFolding chairs\, side tables; plates & cutlery\n\n\n\nA torch\, mosquito protection\, binoculars\, camera etc.\n\n\n\nYou might also like to wear something with a natural history theme e.g. hat\, scarf or costume.                         \n\n\n\n\nTea and coffee provided; BBQ facilities available.
URL:https://www.wanaturalists.org.au/events/club-christmas-picnic/
LOCATION:Herdsman Lake Discovery Centre\, Cnr Flynn and Selby St.\, Wembley\, WA\, 6018\, Australia
CATEGORIES:BBQ,Picnic,Social,Walk
ATTACH;FMTTYPE=image/jpeg:https://www.wanaturalists.org.au/files/2022/11/db4122_5cc2cdde16dc4c1587f21b90482fc0e0_mv2.jpg
ORGANIZER;CN="WANats Council":MAILTO:info@wanaturalists.org.au
GEO:-31.928995;115.804879
X-APPLE-STRUCTURED-LOCATION;VALUE=URI;X-ADDRESS=Herdsman Lake Discovery Centre Cnr Flynn and Selby St. Wembley WA 6018 Australia;X-APPLE-RADIUS=500;X-TITLE=Cnr Flynn and Selby St.:geo:115.804879,-31.928995
END:VEVENT
END:VCALENDAR