BEGIN:VCALENDAR
VERSION:2.0
PRODID:-//Western Australian Naturalists Club - ECPv6.15.20//NONSGML v1.0//EN
CALSCALE:GREGORIAN
METHOD:PUBLISH
X-ORIGINAL-URL:https://www.wanaturalists.org.au
X-WR-CALDESC:Events for Western Australian Naturalists Club
REFRESH-INTERVAL;VALUE=DURATION:PT1H
X-Robots-Tag:noindex
X-PUBLISHED-TTL:PT1H
BEGIN:VTIMEZONE
TZID:Australia/Perth
BEGIN:STANDARD
TZOFFSETFROM:+0800
TZOFFSETTO:+0800
TZNAME:AWST
DTSTART:20230101T000000
END:STANDARD
END:VTIMEZONE
BEGIN:VEVENT
DTSTART;TZID=Australia/Perth:20240724T080000
DTEND;TZID=Australia/Perth:20240724T100000
DTSTAMP:20260425T062125
CREATED:20240618T124438Z
LAST-MODIFIED:20240630T042041Z
UID:10000507-1721808000-1721815200@www.wanaturalists.org.au
SUMMARY:Craigie Open Space¦GOLLY Walk
DESCRIPTION:We will examine the eastern limit of the parabolic dunes of the Quindalup Dune system before taking the stairs up the dune face. After a quick look at the mature Quandongs\, we will descend the dune face and take a walk through the bushland\, looking for quenda\, orchids and other natives in flower. Also a good spot for fungi and birds. Morning tea at Craigie Leisure Centre. ( Image: Urban Bush Council) \nMeet: Carpark\, northwestern side of Craigie Leisure Centre (around corner from main car park)\, off Whitfords Ave.
URL:https://www.wanaturalists.org.au/events/nsb-july-golly-walk-craigie-open-space/
LOCATION:Craigie Bushland\, Whitfords Ave\, Craigie\, WA
CATEGORIES:GOlocaLLY,Walk
ATTACH;FMTTYPE=image/jpeg:https://www.wanaturalists.org.au/files/2024/06/Craigie-Bushland.jpg
ORGANIZER;CN="Don Poynton":MAILTO:natsnorthernbranch@gmail.com
GEO:-31.794752;115.778101
X-APPLE-STRUCTURED-LOCATION;VALUE=URI;X-ADDRESS=Craigie Bushland Whitfords Ave Craigie WA;X-APPLE-RADIUS=500;X-TITLE=Whitfords Ave:geo:115.778101,-31.794752
END:VEVENT
END:VCALENDAR