BEGIN:VCALENDAR
VERSION:2.0
PRODID:-//Western Australian Naturalists Club - ECPv6.15.20//NONSGML v1.0//EN
CALSCALE:GREGORIAN
METHOD:PUBLISH
X-ORIGINAL-URL:https://www.wanaturalists.org.au
X-WR-CALDESC:Events for Western Australian Naturalists Club
REFRESH-INTERVAL;VALUE=DURATION:PT1H
X-Robots-Tag:noindex
X-PUBLISHED-TTL:PT1H
BEGIN:VTIMEZONE
TZID:Australia/Perth
BEGIN:STANDARD
TZOFFSETFROM:+0800
TZOFFSETTO:+0800
TZNAME:AWST
DTSTART:20230101T000000
END:STANDARD
END:VTIMEZONE
BEGIN:VEVENT
DTSTART;TZID=Australia/Perth:20240925T080000
DTEND;TZID=Australia/Perth:20240925T100000
DTSTAMP:20260425T022040
CREATED:20240818T064324Z
LAST-MODIFIED:20240921T095934Z
UID:10000535-1727251200-1727258400@www.wanaturalists.org.au
SUMMARY:UPDATE-GOLLY WALK:  YABEROO-BUDJARA HERITAGE TRAIL\, NEERABUP
DESCRIPTION:AFTER OUR WALK WE WILL DRIVE TO THE BUSH BLOCK OWNED BY THE LATE JOHANNA AND ALAN NOTLEY FOR MORNING TEA.  \nMIA (MIRIAM) WILL SHOW US AROUND THE BLOCKS WHERE THERE ARE LOTS OF NATIVES IN FLOWER. MAY ALSO BE OPPORTUNITY TO VIEW A SHOW OF ENAMEL ORCHIDS  \nApprox. 3km walk in the Neerabup National Park taking in the 10th Light Horse Heritage Trail and part of the Yaberoo- Budjara Heritage Trail. A different area to the one in the national park we walked last year. \nThe landscape features limestone caprock and a diverse plant life. Jarrah and tuart woodlands stand alongside open banksia\, mallee\, hakea and dryandra heathlands. Flowering plants in the park at this time of year include kangaroo paws\, native buttercups and native wisteria. Should be orchids as we are a month later than last year. \nhttps://www.wanneroo.wa.gov.au/downloads/file/1079/10th_light_horse_trail_brochure \nMeet at 10th Light Horse Heritage Trail car park. Look for turn off on West side of Wanneroo Rd\, 450m north of Neerabup Rd/ Flynn Drive intersection with Wanneroo Rd.
URL:https://www.wanaturalists.org.au/events/golly-walk-yaberoo-budjara-heritage-trail-neerabup/
LOCATION:Neerabup National Park\, Neerabup
CATEGORIES:GOlocaLLY,Walk
ORGANIZER;CN="Don Poynton":MAILTO:natsnorthernbranch@gmail.com
END:VEVENT
END:VCALENDAR