BEGIN:VCALENDAR
VERSION:2.0
PRODID:-//Western Australian Naturalists Club - ECPv6.15.20//NONSGML v1.0//EN
CALSCALE:GREGORIAN
METHOD:PUBLISH
X-WR-CALNAME:Western Australian Naturalists Club
X-ORIGINAL-URL:https://www.wanaturalists.org.au
X-WR-CALDESC:Events for Western Australian Naturalists Club
REFRESH-INTERVAL;VALUE=DURATION:PT1H
X-Robots-Tag:noindex
X-PUBLISHED-TTL:PT1H
BEGIN:VTIMEZONE
TZID:Australia/Perth
BEGIN:STANDARD
TZOFFSETFROM:+0800
TZOFFSETTO:+0800
TZNAME:AWST
DTSTART:20240101T000000
END:STANDARD
END:VTIMEZONE
BEGIN:VEVENT
DTSTART;TZID=Australia/Perth:20250827T080000
DTEND;TZID=Australia/Perth:20250827T093000
DTSTAMP:20260424T060802
CREATED:20250715T044036Z
LAST-MODIFIED:20250731T115643Z
UID:10000644-1756281600-1756287000@www.wanaturalists.org.au
SUMMARY:Warwick Bushland¦NSB Golly Walk
DESCRIPTION:Warwick Conservation Reserve bursts into colour in Late Winter- Early Spring. \nWe will take one of the walk trails looking for some of the many species of orchids and other native plants that can be found in the reserve. \nMeet in the Bowling Club car park\, opposite the High School\, Lloyd St\, Warwick. (Note this is south of the Stadium car park) \nPhoto Montage: Mark Brundrett.
URL:https://www.wanaturalists.org.au/events/nsb-golly-walk-warwick-bushland/
LOCATION:Warwick Bushland\, Lloyd drive\, Warwick\, WA\, Australia
CATEGORIES:Excursion,GOlocaLLY,Walk
ATTACH;FMTTYPE=image/jpeg:https://www.wanaturalists.org.au/files/2025/07/WCA-20-Orchids-4.jpg
ORGANIZER;CN="Don Poynton":MAILTO:natsnorthernbranch@gmail.com
GEO:-31.8382824;115.8172112
X-APPLE-STRUCTURED-LOCATION;VALUE=URI;X-ADDRESS=Warwick Bushland Lloyd drive Warwick WA Australia;X-APPLE-RADIUS=500;X-TITLE=Lloyd drive:geo:115.8172112,-31.8382824
END:VEVENT
END:VCALENDAR