BEGIN:VCALENDAR
VERSION:2.0
PRODID:-//Western Australian Naturalists Club - ECPv6.15.20//NONSGML v1.0//EN
CALSCALE:GREGORIAN
METHOD:PUBLISH
X-ORIGINAL-URL:https://www.wanaturalists.org.au
X-WR-CALDESC:Events for Western Australian Naturalists Club
REFRESH-INTERVAL;VALUE=DURATION:PT1H
X-Robots-Tag:noindex
X-PUBLISHED-TTL:PT1H
BEGIN:VTIMEZONE
TZID:Australia/Perth
BEGIN:STANDARD
TZOFFSETFROM:+0800
TZOFFSETTO:+0800
TZNAME:AWST
DTSTART:20240101T000000
END:STANDARD
END:VTIMEZONE
BEGIN:VEVENT
DTSTART;TZID=Australia/Perth:20251022T080000
DTEND;TZID=Australia/Perth:20251022T100000
DTSTAMP:20260424T020443
CREATED:20251001T052732Z
LAST-MODIFIED:20251001T052929Z
UID:10000663-1761120000-1761127200@www.wanaturalists.org.au
SUMMARY:Lake Gnangara North¦GOLLY Walk
DESCRIPTION:Meet: End of Heritage Terrace\, Gnangara (Remember to use Ocean Reef Rd not Alexander Dr – from Ocean Reef Rd\, turn North into Sydney Rd\, then Right into Lorian Rd then Right into Heritage Tce). \n\n\n\nDetails: During our Golly walk along the eastern side of Lake Gnangara in July we met a walker who recommended we visit the north end of the lake. So we have decided to do it. Again we will have a mix of banksia woodland\, hopefully with lots of orchids\, and lacustrine wetlands. \n\n\n\nBring: Comfortable footwear and clothes suitable for the weather. Bring picnic lunch and chairs. \n\n\n\nContact: Don Poynton
URL:https://www.wanaturalists.org.au/events/lake-gnangara-north-golly-walk/
LOCATION:Lake Gnangara\, Alexander Dr\, Gnangara\, Australia
CATEGORIES:GOlocaLLY
ORGANIZER;CN="Don Poynton":MAILTO:natsnorthernbranch@gmail.com
END:VEVENT
END:VCALENDAR