BEGIN:VCALENDAR
VERSION:2.0
PRODID:-//Western Australian Naturalists Club - ECPv6.15.20//NONSGML v1.0//EN
CALSCALE:GREGORIAN
METHOD:PUBLISH
X-ORIGINAL-URL:https://www.wanaturalists.org.au
X-WR-CALDESC:Events for Western Australian Naturalists Club
REFRESH-INTERVAL;VALUE=DURATION:PT1H
X-Robots-Tag:noindex
X-PUBLISHED-TTL:PT1H
BEGIN:VTIMEZONE
TZID:Australia/Perth
BEGIN:STANDARD
TZOFFSETFROM:+0800
TZOFFSETTO:+0800
TZNAME:AWST
DTSTART:20240101T000000
END:STANDARD
END:VTIMEZONE
BEGIN:VEVENT
DTSTART;TZID=Australia/Perth:20250916T080000
DTEND;TZID=Australia/Perth:20250917T170000
DTSTAMP:20260423T204352
CREATED:20250831T093610Z
LAST-MODIFIED:20250831T093619Z
UID:10000657-1758009600-1758128400@www.wanaturalists.org.au
SUMMARY:WA Better by Nature
DESCRIPTION:BUILDING PRIVATE LAND CONSERVATION IN WA SYMPOSIUM\n\n\n\n\n\n\n\n\n\nOver two days\, the Building Private Land Conservation in WA symposium will bring together experts\, leaders and local landholders from across Australia who work and care about better conservation outcomes in WA. \n\n\n\nTopics will include: \n\n\n\n\nOpportunities to revitalise WA’s existing conservation covenanting and stewardship program.\n\n\n\nLong-term\, co-investment funding models for protected areas.\n\n\n\nInnovative strategies for new private land conservation prospects in WA\n\n\n\n\nDate: Tuesday\, 16th September – Wednesday\, 17th September 2025 \n\n\n\nLocation: WA Maritime Museum in Fremantle/Walyalup
URL:https://www.wanaturalists.org.au/events/wa-better-by-nature/
LOCATION:Western Australian Maritime Museum\, Victoria Quay\, Fremantle\, Australia
ATTACH;FMTTYPE=image/png:https://www.wanaturalists.org.au/files/2025/08/word-image-45556-16.png
GEO:-32.0449829;115.751527
X-APPLE-STRUCTURED-LOCATION;VALUE=URI;X-ADDRESS=Western Australian Maritime Museum Victoria Quay Fremantle Australia;X-APPLE-RADIUS=500;X-TITLE=Victoria Quay:geo:115.751527,-32.0449829
END:VEVENT
END:VCALENDAR