BEGIN:VCALENDAR
VERSION:2.0
PRODID:-//Western Australian Naturalists Club - ECPv6.15.20//NONSGML v1.0//EN
CALSCALE:GREGORIAN
METHOD:PUBLISH
X-WR-CALNAME:Western Australian Naturalists Club
X-ORIGINAL-URL:https://www.wanaturalists.org.au
X-WR-CALDESC:Events for Western Australian Naturalists Club
REFRESH-INTERVAL;VALUE=DURATION:PT1H
X-Robots-Tag:noindex
X-PUBLISHED-TTL:PT1H
BEGIN:VTIMEZONE
TZID:Australia/Perth
BEGIN:STANDARD
TZOFFSETFROM:+0800
TZOFFSETTO:+0800
TZNAME:AWST
DTSTART:20240101T000000
END:STANDARD
END:VTIMEZONE
BEGIN:VEVENT
DTSTART;TZID=Australia/Perth:20250223T083000
DTEND;TZID=Australia/Perth:20250223T123000
DTSTAMP:20260425T025852
CREATED:20250124T070542Z
LAST-MODIFIED:20250124T070542Z
UID:10000586-1740299400-1740313800@www.wanaturalists.org.au
SUMMARY:KRMB Excursion to Penguin Island
DESCRIPTION:Our February excursion is to Penguin Island. Meet at the ticket kiosk at Shoalwater at 8:30 – 8:45 am to catch the 9:00am ferry. Bring Binoculars\, cameras\, drinks and snacks. \nNote: if the island is closed to the public due to hot weather we will visit Point Peron instead
URL:https://www.wanaturalists.org.au/events/krmb-excursion-to-penguin-island/
LOCATION:Penguin Island\, 155 Arcadia Drive\, Shoalwater\, Australia
GEO:-32.3047626;115.7022581
X-APPLE-STRUCTURED-LOCATION;VALUE=URI;X-ADDRESS=Penguin Island 155 Arcadia Drive Shoalwater Australia;X-APPLE-RADIUS=500;X-TITLE=155 Arcadia Drive:geo:115.7022581,-32.3047626
END:VEVENT
END:VCALENDAR