BEGIN:VCALENDAR
VERSION:2.0
PRODID:-//Western Australian Naturalists Club - ECPv6.15.20//NONSGML v1.0//EN
CALSCALE:GREGORIAN
METHOD:PUBLISH
X-WR-CALNAME:Western Australian Naturalists Club
X-ORIGINAL-URL:https://www.wanaturalists.org.au
X-WR-CALDESC:Events for Western Australian Naturalists Club
REFRESH-INTERVAL;VALUE=DURATION:PT1H
X-Robots-Tag:noindex
X-PUBLISHED-TTL:PT1H
BEGIN:VTIMEZONE
TZID:Australia/Perth
BEGIN:STANDARD
TZOFFSETFROM:+0800
TZOFFSETTO:+0800
TZNAME:AWST
DTSTART:20240101T000000
END:STANDARD
END:VTIMEZONE
BEGIN:VEVENT
DTSTART;TZID=Australia/Perth:20250928T093000
DTEND;TZID=Australia/Perth:20250928T153000
DTSTAMP:20260423T184234
CREATED:20250913T032334Z
LAST-MODIFIED:20251105T021318Z
UID:10000659-1759051800-1759073400@www.wanaturalists.org.au
SUMMARY:WA Nats Walking Group
DESCRIPTION:Pickering Brook \nMeet:          At the end of Bracken Rd in Pickering Brook. Turn right at the T junction at the end of the road and park at the roadside. [UBD map 316\, A12]. \nDetails:       The walk is about 10 km along good bush paths with some hills in open woodland. Wear clothes appropriate to the weather (i.e. hat / rainwear) and suitable footwear.  Bring morning tea\, lunch and drinking water.  Afternoon tea/coffee back at the cars\, if you want to stay. \nPlease be aware\, if the weather dictates\, the leader may choose to cancel or change the walk. Check the website for updates after 6pm on Saturday 27 September. \nContact:      Lutz Elber   Ph 0437 141 299
URL:https://www.wanaturalists.org.au/events/wa-nats-walking-group/
LOCATION:Pickering Brook\, end of Bracken Rd.\, Pickering Brook\, WA\, Australia
CATEGORIES:Walk
GEO:-32.027098;116.15336
X-APPLE-STRUCTURED-LOCATION;VALUE=URI;X-ADDRESS=Pickering Brook end of Bracken Rd. Pickering Brook WA Australia;X-APPLE-RADIUS=500;X-TITLE=end of Bracken Rd.:geo:116.15336,-32.027098
END:VEVENT
END:VCALENDAR