BEGIN:VCALENDAR
VERSION:2.0
PRODID:-//Western Australian Naturalists Club - ECPv6.15.20//NONSGML v1.0//EN
CALSCALE:GREGORIAN
METHOD:PUBLISH
X-WR-CALNAME:Western Australian Naturalists Club
X-ORIGINAL-URL:https://www.wanaturalists.org.au
X-WR-CALDESC:Events for Western Australian Naturalists Club
REFRESH-INTERVAL;VALUE=DURATION:PT1H
X-Robots-Tag:noindex
X-PUBLISHED-TTL:PT1H
BEGIN:VTIMEZONE
TZID:Australia/Perth
BEGIN:STANDARD
TZOFFSETFROM:+0800
TZOFFSETTO:+0800
TZNAME:AWST
DTSTART:20240101T000000
END:STANDARD
END:VTIMEZONE
BEGIN:VEVENT
DTSTART;TZID=Australia/Perth:20250501T000000
DTEND;TZID=Australia/Perth:20250507T235959
DTSTAMP:20260423T152451
CREATED:20250405T012303Z
LAST-MODIFIED:20250405T021729Z
UID:10000596-1746057600-1746662399@www.wanaturalists.org.au
SUMMARY:NOTLEY LATE EASTER CAMP 2025
DESCRIPTION:Dates:  Thursday 1 May – Wednesday 7 May \nA deposit of $100 is required to save your place and once the final number of attendees is known (a week before commencement) we will advise you of the remaining amount to pay. \nPay deposit via Humanitix. \nVenue: Wellington Forest and Collie region \nActivities: Wellington Discovery Forest Centre – Potters Gorge – Wyvern Road Nature Reserve – Coalfields Museum – Westralian Conservation Park – Harris Dam – Harris River Winery. Guided Tour of Collie Mural Trail featuring Flora and Fauna\, Wildflowers – Birds – Fungi – Snails – Ring-tailed Possums. \nAccommodation: Our accommodation for the 6 nights will be the Wellington Forest Cottages and Conference Centre\, situated 31 km southwest of Collie. https://wfccc.com.au/cottages/ \nWe have reserved 4 cottages. Three with inside toilet\, one with outside toilet.\nEach cottage has 3 bedrooms:\n– Master bedroom has 1 double and 1 single bed\n– Bedroom 2 has 3 single beds (no bunk beds)\n– Bedroom 3 has 2 single beds \nOptions: stay 6 nights or weekend only (2-3 nights). We will do our best to accommodate your request for a single room but cannot guarantee. Move in from 2pm on Thursday 1 May. Depart by 10am Wednesday 7 May. \nThe final cost per person can only be determined once we know the final number of attendees\, but we estimate $60-$65 per person per night. \nWhat’s included in the cost\n– Accommodation\n– Use of Conference Centre\n– Guided tour of Collie Murals and Arboretum \nWhat’s not included\n– Entry to Collie Coalfields Museum\n– Hire of canoes/kayaks \nNon-members are welcome but will be charged an extra $75 or they can spend the same amount and join the Club. \nBring: your own bedding- sheets\, blankets\, pillow case and towels\, as well as food. We will make a couple of visits to Collie where you will be able to restock. \nContact: Don Poynton for any questions and further information. If you have a medical condition we should be aware of please provide information directly to the organizer at natsnorthernbranch@gmail.com
URL:https://www.wanaturalists.org.au/events/advance-notice-notley-late-easter-camp-2/
LOCATION:Wellington Forest\, Collie\, WA\, Australia
ATTACH;FMTTYPE=image/png:https://www.wanaturalists.org.au/files/2025/02/Picture4.png
ORGANIZER;CN="Don Poynton":MAILTO:natsnorthernbranch@gmail.com
END:VEVENT
END:VCALENDAR